BEGIN:VCALENDAR
VERSION:2.0
PRODID:icalendar-ruby
CALSCALE:GREGORIAN
METHOD:PUBLISH
BEGIN:VEVENT
DTSTAMP:20260422T222919Z
UID:22-212835@grandbaybaptist.ca
DTSTART:20261029T091500Z
DTEND:20261029T224500Z
CLASS:PUBLIC
CREATED:20260422T182609
DESCRIPTION:Pioneer Clubs is more than just a kids’ program\, it’s a pl
 ace where children can grow in faith\, friendships\, and life skills.\nA c
 hild who attends Pioneer Clubs will…\nKnow how someone comes to faith in
  Jesus Christ\nUnderstand that God wants us to live lives that honor and g
 lorify Him\nLearn how to study the Bible and apply it to their lives throu
 gh fun\, engaging kids’ Bible studies\nDiscover how to build meaningful 
 relationships with family\, church\, and community\nExperience success and
  achievement through personal discipline\nBuild lasting and lifelong relat
 ionships with Christian adults and peers\n\nWhen &amp\; Where:\nPioneers m
 eets every Thursday evening from 6:15–7:45 PM right here at Grand Bay Ba
 ptist Church.\nWho:\nKids from Kindergarten through Grade 6 are welcome!\n
 We’d love to see your child join us each week as they explore faith\, gr
 ow in character\, and have a blast together.
LAST-MODIFIED:20260422T182609
LOCATION:Grand Bay Baptist Church
SUMMARY:Pioneers
URL;VALUE=URI:https://grandbaybaptist.ca/events/pioneers--22/2026-10-29
ATTACH;FILENAME=637936150314011822_Pioneer-Clubs-Logo-Color-copy.png;FMTTYP
 E=image/png:https://dq5pwpg1q8ru0.cloudfront.net/2026/02/24/17/19/54/35142
 376-3b14-439e-9226-e4ea12996392/637936150314011822_Pioneer-Clubs-Logo-Colo
 r-copy.png
END:VEVENT
END:VCALENDAR
